BEGIN:VCALENDAR
VERSION:2.0
PRODID:-//jEvents 2.0 for Joomla//EN
CALSCALE:GREGORIAN
METHOD:PUBLISH
BEGIN:VEVENT
UID:83256ee3153e52082372b5c17815060b
CATEGORIES:Aviv Quartet concerts
CREATED:20240806T235040
SUMMARY:Haifa Chamber Music Society - Cancelled
LOCATION:Haifa\, Rappaport Hall 
DESCRIPTION:\n\nDIFFERENT TRAINS PROJECT \n\nSteve Reich : Different trains [27’]\nLudw
 ig van Beethoven : Quatuor Op.131 [39’]\n\nhttps://haifa-art.org.il/en/musi
 c/132-the-haifa-chamber-music-society\n\n
X-ALT-DESC;FMTTYPE=text/html:<p class="font_9 wixui-rich-text__text"><span class="wixui-rich-text__text"
 ><span class="wixui-rich-text__text"><span class="wixui-rich-text__text"><s
 pan class="wixui-rich-text__text"><span class="wixui-rich-text__text"></spa
 n></span></span></span></span></p><p class="font_8 wixui-rich-text__text"><
 span class="color_42 wixui-rich-text__text"><span class="wixui-rich-text__t
 ext"></span></span></p><p>DIFFERENT TRAINS PROJECT&nbsp;</p><p></p><p>Steve
  Reich : Different trains [27’]</p><p>Ludwig van Beethoven : Quatuor Op.131
  [39’]</p><p></p><p><a href="https://haifa-art.org.il/en/music/132-the-haif
 a-chamber-music-society">https://haifa-art.org.il/en/music/132-the-haifa-ch
 amber-music-society</a></p><p></p>
DTSTAMP:20260420T081140
DTSTART:20250126T203000
SEQUENCE:0
TRANSP:OPAQUE
END:VEVENT
END:VCALENDAR