BEGIN:VCALENDAR
VERSION:2.0
PRODID:-//jEvents 2.0 for Joomla//EN
CALSCALE:GREGORIAN
METHOD:PUBLISH
BEGIN:VEVENT
UID:80ebdb975dd0649a8bf3323c8ac66a37
CATEGORIES:Aviv Quartet concerts
CREATED:20230826T011051
SUMMARY:Label Suisse Festival 
LOCATION:Casino de Montbenon\, allée Ernest Ansermet 3\, 1003 Lausanne\, Suisse
DESCRIPTION:W. A. Mozart: Quartet K.387 in G Major "The spring"\nJ. Brahms: Quartet op.
 51 n.1 in c minor \nMore information here (https://labelsuisse.ch/de/progra
 mm/event/442/)\n
X-ALT-DESC;FMTTYPE=text/html:W. A. Mozart: Quartet K.387 in G Major "The spring"<br/>J. Brahms: Quartet 
 op.51 n.1 in c minor <br/>More information here (<a href="https://labelsuis
 se.ch/de/programm/event/442/">https://labelsuisse.ch/de/programm/event/442/
 </a>)<br/>
CONTACT:https://labelsuisse.ch/fr/on-se-voit-en-2022/
DTSTAMP:20260419T171944
DTSTART:20220918T140000
SEQUENCE:0
TRANSP:OPAQUE
END:VEVENT
END:VCALENDAR