BEGIN:VCALENDAR
VERSION:2.0
PRODID:-//jEvents 2.0 for Joomla//EN
CALSCALE:GREGORIAN
METHOD:PUBLISH
BEGIN:VEVENT
UID:e42d93138df4cffdf3bc43c61559e108
CATEGORIES:Aviv Quartet concerts
CREATED:20230826T011050
SUMMARY:Concert
LOCATION:Auditorium\, Rue de la Bérarde 10\, Le Hameau\, 1936 Verbier\, Suisse
DESCRIPTION:Concert pour la Copperfield International School Verbier (https://www.coppe
 rfield.education/copperfieldconcerts)\nJohannes Brahms: Quartet Op.51 n.1 i
 n c\nW. A. Mozart : Quartet n. 14 in G, K. 387 "The Spring"\n
X-ALT-DESC;FMTTYPE=text/html:Concert pour la Copperfield International School Verbier (<a href="https://
 www.copperfield.education/copperfieldconcerts">https://www.copperfield.educ
 ation/copperfieldconcerts</a>)<br/>Johannes Brahms: Quartet Op.51 n.1 in c<
 br/>W. A. Mozart : Quartet n. 14 in G, K. 387 "The Spring"<br/>
CONTACT:Cette adresse e-mail est protégée contre les robots spammeurs. Vous devez activer le JavaScript pour la visualiser.
DTSTAMP:20260419T154210
DTSTART:20220325T123000
SEQUENCE:0
TRANSP:OPAQUE
END:VEVENT
END:VCALENDAR