BEGIN:VCALENDAR
VERSION:2.0
PRODID:-//jEvents 2.0 for Joomla//EN
CALSCALE:GREGORIAN
METHOD:PUBLISH
BEGIN:VEVENT
UID:331075d218cc897aba9a145104a299af
CATEGORIES:Aviv Quartet concerts
CREATED:20250322T135836
SUMMARY:Different Trains
LOCATION:La Chaux-de-fonds
DESCRIPTION:Different Trains  \n\nAviv Quartet \nAnna Göckel – violin\nBrandon Garbot -
  violin\nNoemie Bialobroda – viola\nDaniel Mitnitsky – cello\n\nLe 11 mai à
  17h\nSynagogue de la Chaux-de-Fonds\n\n\nSteve Reich :Different Trains, fo
 r String Quartet and pre-recorded tape\nLudwig van Beethoven : Quartet op.1
 31\n********************************** (https://www.icm.org.il/en/chamber-m
 usic-center-concert-series/)
X-ALT-DESC;FMTTYPE=text/html:<h5></h5><div class="elementor-element elementor-element-70e75b5 elementor-
 widget elementor-widget-global elementor-global-8657 elementor-widget-theme
 -post-content" data-id="70e75b5" data-elementtype="widget" data-widgettype=
 "theme-post-content.default"><div class="elementor-widget-container"><p dir
 ="ltr"><strong>Different Trains &nbsp;</strong></p><p></p><p dir="ltr"><str
 ong>Aviv Quartet&nbsp;</strong></p><p dir="ltr">Anna Göckel – violin</p><p 
 dir="ltr">Brandon Garbot - violin</p><p dir="ltr">Noemie Bialobroda – viola
 </p><p dir="ltr">Daniel Mitnitsky – cello</p><p></p><p>Le 11 mai à 17h</p><
 p>Synagogue de la Chaux-de-Fonds</p><p></p><p></p><p><strong><span style="c
 olor: #000000;">Steve Reich :</span></strong><span style="color: #000000;">
 </span><strong>Different Trains, for String Quartet and pre-recorded tape</
 strong></p><p><strong>Ludwig van Beethoven : Quartet op.131</strong></p></d
 iv></div><h2 class="nom color"><span style="font-family: var(--bs-body-font
 -family); font-size: var(--bs-body-font-size); text-align: var(--bs-body-te
 xt-align); -webkit-tap-highlight-color: transparent;">*********************
 *************</span><a href="https://www.icm.org.il/en/chamber-music-center
 -concert-series/"></a></h2><div class="mt-3 mb-3"><div class="row"></div></
 div>
DTSTAMP:20260420T094104
DTSTART:20250511T160000
SEQUENCE:0
TRANSP:OPAQUE
END:VEVENT
END:VCALENDAR