BEGIN:VCALENDAR
VERSION:2.0
PRODID:-//jEvents 2.0 for Joomla//EN
CALSCALE:GREGORIAN
METHOD:PUBLISH
BEGIN:VEVENT
UID:aabcc1233f916b3e75b4b5da9e7f54e7
CATEGORIES:Aviv Quartet concerts
CREATED:20231208T114401
SUMMARY:Quintette pour hautbois et cordes
LOCATION:L'Esplanade d'Aubonne 42 Avenue du Chêne 1170 Aubonne Switzerland
DESCRIPTION:Quintette pour hautbois et cordes\nJean-Louis Cappezzali, hautbois ; Quatuo
 r Aviv \n\nANTON REICHA\nQUINTETTE EN FA MAJEUR, OP.107\n\nWOLFGANG AMADEUS
  MOZART\nQUINTETTE EN SOL MINEUR, D'APRÈS LE QUINTETTE K.516 (ARRANGEMENT D
 E DAVID WALTER)\nInformations et réservation : Billetterie Music’Léman (htt
 ps://infomaniak.events/shop/xLB3f0Oov0/event/1005732/)\nL'Esplanade d'Aubon
 ne\n42 Avenue du Chêne\n1170 Aubonne\nSwitzerland\n\n
X-ALT-DESC;FMTTYPE=text/html:<h4>Quintette pour hautbois et cordes</h4><p></p><p>Jean-Louis Cappezzali, 
 hautbois ; Quatuor Aviv&nbsp;</p><p></p><p><strong>ANTON REICHA</strong></p
 ><p>QUINTETTE EN FA MAJEUR, OP.107</p><p></p><p><strong>WOLFGANG AMADEUS MO
 ZART</strong></p><p>QUINTETTE EN SOL MINEUR, D'APRÈS LE QUINTETTE K.516 (AR
 RANGEMENT DE DAVID WALTER)</p><p>Informations et réservation :&nbsp;<a href
 ="https://infomaniak.events/shop/xLB3f0Oov0/event/1005732/">Billetterie Mus
 ic’Léman</a></p><p>L'Esplanade d'Aubonne</p><p>42 Avenue du Chêne</p><p><sp
 an itemprop="postalCode">1170 Aubonne</span></p><p>Switzerland</p><p></p>
DTSTAMP:20260420T094103
DTSTART:20240204T170000
SEQUENCE:0
TRANSP:OPAQUE
END:VEVENT
END:VCALENDAR