BEGIN:VCALENDAR
VERSION:2.0
PRODID:-//jEvents 2.0 for Joomla//EN
CALSCALE:GREGORIAN
METHOD:PUBLISH
BEGIN:VEVENT
UID:f9fcbb9a5572c389b311dd1380a5dc92
CATEGORIES:Aviv Quartet concerts
CREATED:20230826T011051
SUMMARY:Concert pour les Amis du Quatuor
LOCATION:Société de lecture\, Grande rue 1\, Genève 
DESCRIPTION:Franz Schubert : Quartettsatz D.703 en Do mineur\nBohuslav Martinu : Quatuo
 r n.5 H.268 en Sol mineur\nConcert suivie d'une verrée conviviale.\nMerci d
 e nous confirmer votre présence par mail à Cette adresse e-mail est protégé
 e contre les robots spammeurs. Vous devez activer le JavaScript pour la vis
 ualiser. (mailto:Cette adresse e-mail est protégée contre les robots spamme
 urs. Vous devez activer le JavaScript pour la visualiser.)\n
X-ALT-DESC;FMTTYPE=text/html:Franz Schubert : Quartettsatz D.703 en Do mineur<br/>Bohuslav Martinu : Qua
 tuor n.5 H.268 en Sol mineur<br/>Concert suivie d'une verrée conviviale.<br
 />Merci de nous confirmer votre présence par mail à <joomla-hidden-mail  is
 -link="1" is-email="1" first="YW1pcw==" last="YXZpdnF1YXJ0ZXQuY29t" text="Y
 W1pc0Bhdml2cXVhcnRldC5jb20=" base="" >Cette adresse e-mail est protégée con
 tre les robots spammeurs. Vous devez activer le JavaScript pour la visualis
 er.</joomla-hidden-mail> (mailto:<joomla-hidden-mail  is-link="1" is-email=
 "1" first="YW1pcw==" last="YXZpdnF1YXJ0ZXQuY29t" text="YW1pc0Bhdml2cXVhcnRl
 dC5jb20=" base="" >Cette adresse e-mail est protégée contre les robots spam
 meurs. Vous devez activer le JavaScript pour la visualiser.</joomla-hidden-
 mail>)<br/>
CONTACT:Cette adresse e-mail est protégée contre les robots spammeurs. Vous devez activer le JavaScript pour la visualiser.
DTSTAMP:20260419T215447
DTSTART:20221015T110000
SEQUENCE:0
TRANSP:OPAQUE
END:VEVENT
END:VCALENDAR