BEGIN:VCALENDAR
VERSION:2.0
PRODID:-//jEvents 2.0 for Joomla//EN
CALSCALE:GREGORIAN
METHOD:PUBLISH
BEGIN:VEVENT
UID:289cb24ea48e156f46ba3419cfbd6697
CATEGORIES:Aviv Quartet concerts
CREATED:20231208T132757
SUMMARY:Accademia Filarmonica di Bologna (it)
LOCATION:Bologna\, Italia
DESCRIPTION:Accademia Filarmonica di BolognaBéla Bartók - Quatuor no. 2\nLudwig van Bee
 thoven - Quatuor op. 132\nInformations et réservations : Accademia Filarmon
 ica (https://accademiafilarmonica.it/concerti/quartetto-aviv)\n
X-ALT-DESC;FMTTYPE=text/html:<h4>Accademia Filarmonica di Bologna</h4><p>Béla Bartók - Quatuor no. 2</p>
 <p>Ludwig van Beethoven - Quatuor op. 132</p><p>Informations et réservation
 s :&nbsp;<a href="https://accademiafilarmonica.it/concerti/quartetto-aviv">
 Accademia Filarmonica</a></p>
DTSTAMP:20260420T022258
DTSTART:20240412T193000
DTEND:20240412T193000
SEQUENCE:0
TRANSP:OPAQUE
END:VEVENT
END:VCALENDAR