BEGIN:VCALENDAR
VERSION:2.0
PRODID:-//jEvents 2.0 for Joomla//EN
CALSCALE:GREGORIAN
METHOD:PUBLISH
BEGIN:VEVENT
UID:803ec8512fb8646f35d5fe29d341a5f4
CATEGORIES:Aviv Quartet concerts
CREATED:20230826T011051
SUMMARY:Concert à la Société de Lecture
LOCATION:Grand-rue 11\, 1204 Genève
DESCRIPTION:Quatuor Aviv\nJoseph Haydn: Quatuor en Ré Majeur, Opus 20 n.4 \nBela Bartok
 : Quatuor n.2\n\nConcert suivi d'une verrée dans les salons.\nTarif plein 3
 0chf  ; tarif réduit 15 chf - Entrée libre sur réservation pour les membres
  de l'Association des Amis du Quatuor Aviv. \nRéservations par email : This
  email address is being protected from spambots. You need JavaScript enable
 d to view it. \nLe mardi 19 octobre à 19h.\nPlus d‘infos (https://www.socie
 te-de-lecture.ch/en/)  \n
X-ALT-DESC;FMTTYPE=text/html:<h3>Quatuor Aviv</h3><p></p><p><strong>Joseph Haydn</strong>: Quatuor en Ré
  Majeur, Opus 20 n.4&nbsp;<br /><strong>Bela Bartok</strong>: Quatuor n.2</
 p><p><br />Concert suivi d'une verrée dans les salons.</p><p>Tarif plein 30
 chf &nbsp;; tarif réduit 15 chf -&nbsp;Entrée libre sur réservation pour le
 s membres de l'Association des Amis du Quatuor Aviv.&nbsp;</p><p>Réservatio
 ns par email : <joomla-hidden-mail  is-link="1" is-email="1" first="YW1pcQ=
 =" last="YXZpdnF1YXJ0ZXQuY29t" text="YW1pc0Bhdml2cXVhcnRldC5jb20=" base="" 
 >This email address is being protected from spambots. You need JavaScript e
 nabled to view it.</joomla-hidden-mail>&nbsp;</p><p>Le mardi 19 octobre à 1
 9h.<br />Plus d‘infos (<a href="https://www.societe-de-lecture.ch/en/">http
 s://www.societe-de-lecture.ch/en/</a>)&nbsp;&nbsp;</p>
CONTACT:https://www.societe-de-lecture.ch/en/
DTSTAMP:20260419T192239
DTSTART:20231031T133000
SEQUENCE:0
TRANSP:OPAQUE
END:VEVENT
END:VCALENDAR