BEGIN:VCALENDAR
VERSION:2.0
PRODID:-//jEvents 2.0 for Joomla//EN
CALSCALE:GREGORIAN
METHOD:PUBLISH
BEGIN:VEVENT
UID:1ffa64a3d0d6002c901fed33dbb8d73f
CATEGORIES:Aviv Quartet concerts
CREATED:20230826T011051
SUMMARY:La folle journée Brahms
LOCATION:Chateau de Coppet\, Coppet.
DESCRIPTION:J. Brahms: Quintette avec piano en fa mineur, op.34\nMelodie Zhao, piano (h
 ttps://www.melodiezhao.com/)\nJ. Brahms: Quintette avec clarinette en si mi
 neur, op.115\nDimitri Rasul-Kareyev, clarinette\nPlus d‘infos ici (https://
 musicales-coppet.com/programmes-2023/)\n
X-ALT-DESC;FMTTYPE=text/html:J. Brahms: Quintette avec piano en fa mineur, op.34<br/>Melodie Zhao, piano
  (https://www.melodiezhao.com/)<br/>J. Brahms: Quintette avec clarinette en
  si mineur, op.115<br/>Dimitri Rasul-Kareyev, clarinette<br/><a href="https
 ://musicales-coppet.com/programmes-2023/" target="_blank" rel="noopener">Pl
 us d‘infos ici</a><br/>
CONTACT:This email address is being protected from spambots. You need JavaScript enabled to view it.
DTSTAMP:20260419T221254
DTSTART:20231001T100000
SEQUENCE:0
TRANSP:OPAQUE
END:VEVENT
END:VCALENDAR