BEGIN:VCALENDAR
VERSION:2.0
PRODID:-//jEvents 2.0 for Joomla//EN
CALSCALE:GREGORIAN
METHOD:PUBLISH
BEGIN:VEVENT
UID:22da0c9868b8f123890f830cf48e83c4
CATEGORIES:Aviv Quartet concerts
CREATED:20230826T011051
SUMMARY:Puplinge Classique
LOCATION:Rue de Graman 85\, 1241 Puplinge\, Suisse
DESCRIPTION:F. Schubert: Quatuor en ré mineur "La Jeune Fille et la Mort" D.810, n.14\n
 D. Chostakovitch: Quintette avec piano en sol mineur op.57\nSimon Bürki, pi
 ano\nPlus d‘infos ici (https://www.puplinge-classique.ch/concerts/150e-anni
 versaire)\n
X-ALT-DESC;FMTTYPE=text/html:F. Schubert: Quatuor en ré mineur "La Jeune Fille et la Mort" D.810, n.14<b
 r/>D. Chostakovitch: Quintette avec piano en sol mineur op.57<br/>Simon Bür
 ki, piano<br/>Plus d‘infos ici (<a href="https://www.puplinge-classique.ch/
 concerts/150e-anniversaire">https://www.puplinge-classique.ch/concerts/150e
 -anniversaire</a>)<br/>
CONTACT:+41 22 566 21 17
DTSTAMP:20260419T233205
DTSTART:20230812T110000
SEQUENCE:0
TRANSP:OPAQUE
END:VEVENT
END:VCALENDAR