BEGIN:VCALENDAR
VERSION:2.0
PRODID:-//jEvents 2.0 for Joomla//EN
CALSCALE:GREGORIAN
METHOD:PUBLISH
BEGIN:VEVENT
UID:2edb84eef31a3d10b11b47eb8e72e94e
CATEGORIES:Aviv Quartet concerts
CREATED:20230826T011051
SUMMARY:Israeli Tour, 16-23 April 
DESCRIPTION:16th April 2023, 20.30\nChamber Music Center, Israel Conservatory of Music,
  Tel Aviv\nMore infos here (https://www.icm.org.il/en/2022-23-concert-seaso
 n/)\n19th April 2023, 20.00\nRaanana Music Center, Raanana\nMore infos here
  (https://www.raananamusic.com/)\n22nd April 2023\nSavyon cultural center, 
 Savyon\nCANCELLED \n23rd April 2023, 20.00\nJerusalem Center for Near East 
 Studies, Brigham Young University\nMore infos here (https://byu-jc.org/cale
 ndar/mozart-and-brahms)\nProgram:\nW.A. Mozart: Quartet KV 387 "the spring"
 \nL. Janacek: Quartet n.1 "Kreutzer Sonata"\nJ. Brahms: Piano quintet op.34
  in F minor \nJ. Brahms: Clarinet quintet op.115 in B minor\nJulia Gurvitch
 , piano\nYevgeny Yehudin, clarinet \n
X-ALT-DESC;FMTTYPE=text/html:16th April 2023, 20.30<br/>Chamber Music Center, Israel Conservatory of Mus
 ic, Tel Aviv<br/>More infos here (https://www.icm.org.il/en/2022-23-concert
 -season/)<br/>19th April 2023, 20.00<br/>Raanana Music Center, Raanana<br/>
 <a href="https://www.raananamusic.com/" target="_blank" rel="noopener">More
  infos here</a><br/>22nd April 2023<br/>Savyon cultural center, Savyon<br/>
 CANCELLED <br/>23rd April 2023, 20.00<br/>Jerusalem Center for Near East St
 udies, Brigham Young University<br/>More infos here (https://byu-jc.org/cal
 endar/mozart-and-brahms)<br/>Program:<br/>W.A. Mozart: Quartet KV 387 "the 
 spring"<br/>L. Janacek: Quartet n.1 "Kreutzer Sonata"<br/>J. Brahms: Piano 
 quintet op.34 in F minor <br/>J. Brahms: Clarinet quintet op.115 in B minor
 <br/>Julia Gurvitch, piano<br/>Yevgeny Yehudin, clarinet <br/>
DTSTAMP:20260419T234915
DTSTART:20230416T123000
SEQUENCE:0
TRANSP:OPAQUE
END:VEVENT
END:VCALENDAR