BEGIN:VCALENDAR
VERSION:2.0
PRODID:-//jEvents 2.0 for Joomla//EN
CALSCALE:GREGORIAN
METHOD:PUBLISH
BEGIN:VEVENT
UID:e963e2740c0f9cb56eeee5eb42551180
CATEGORIES:Aviv Quartet concerts
CREATED:20230826T011050
SUMMARY:Concert d’Automne
LOCATION:Temple de Carouge\, Carouge 
DESCRIPTION:Franz Schubert : Quartettsatz en Ut mineur, D.703\nJohannes Brahms : Quinte
 tte pour clarinette et cordes en si mineur op.115. \nDimitri Rasul-Kareyev,
  clarinette\nPlus d’informations ici (https://www.carouge.ch/concerts-dauto
 mne)\n
X-ALT-DESC;FMTTYPE=text/html:Franz Schubert : Quartettsatz en Ut mineur, D.703<br/>Johannes Brahms : Qui
 ntette pour clarinette et cordes en si mineur op.115. <br/>Dimitri Rasul-Ka
 reyev, clarinette<br/>Plus d’informations ici (<a href="https://www.carouge
 .ch/concerts-dautomne">https://www.carouge.ch/concerts-dautomne</a>)<br/>
CONTACT:https://www.carouge.ch/concerts-dautomne
DTSTAMP:20260425T213228
DTSTART:20211128T110000
SEQUENCE:0
TRANSP:OPAQUE
END:VEVENT
END:VCALENDAR