BEGIN:VCALENDAR
VERSION:2.0
PRODID:-//jEvents 2.0 for Joomla//EN
CALSCALE:GREGORIAN
METHOD:PUBLISH
BEGIN:VEVENT
UID:5def73c5ea1c898419dbba72b8b54bef
CATEGORIES:Aviv Quartet concerts
CREATED:20230826T011050
SUMMARY:Concert Grands Interprètes 
LOCATION:Conservatoire de Genève\, Genève 
DESCRIPTION:Maurice Ravel: Quatuor à cordes en fa majeur\nIgor Stravinsky: Trois Pièces
  pour quatuor à cordes \nFranz Schubert: Quatuor à cordes no 15 en sol maje
 ur, D. 887, op. 161\nTickets ici (https://www.caecilia.ch/abonnements/conse
 rvatoire.php)\n
X-ALT-DESC;FMTTYPE=text/html:Maurice Ravel: Quatuor à cordes en fa majeur<br/>Igor Stravinsky: Trois Piè
 ces pour quatuor à cordes <br/>Franz Schubert: Quatuor à cordes no 15 en so
 l majeur, D. 887, op. 161<br/>Tickets ici (<a href="https://www.caecilia.ch
 /abonnements/conservatoire.php">https://www.caecilia.ch/abonnements/conserv
 atoire.php</a>)<br/>
CONTACT:https://www.caecilia.ch/abonnements/conservatoire.php
DTSTAMP:20260425T212917
DTSTART:20211115T140000
SEQUENCE:0
TRANSP:OPAQUE
END:VEVENT
END:VCALENDAR