BEGIN:VCALENDAR
VERSION:2.0
PRODID:-//jEvents 2.0 for Joomla//EN
CALSCALE:GREGORIAN
METHOD:PUBLISH
BEGIN:VEVENT
UID:796bd5a7ed6e95c139cbcd1d8933b172
CATEGORIES:Aviv Quartet concerts
CREATED:20260422T124817
SUMMARY:Concert des Amis, Genève 
LOCATION:Geneva
DESCRIPTION:\nAviv Quartet \n01.05  20:00 Concert des Amis, Société de lecture, Genève\
 nBEETHOVEN Quartet Op. 18, No. 5\nBEETHOVEN Quartet Op.132\n***** (https://
 www.icm.org.il/en/chamber-music-center-concert-series/)tTarifs : 30chf / 15
  chf (- de 18 ans, étudiants,AVS)Entrée gratuite pour les membres de l’Asso
 ciation des Amis du Quatuor AvivRéservations sur This email address is bein
 g protected from spambots. You need JavaScript enabled to view it.
X-ALT-DESC;FMTTYPE=text/html:<h5></h5><div class="elementor-element elementor-element-70e75b5 elementor-
 widget elementor-widget-global elementor-global-8657 elementor-widget-theme
 -post-content" data-id="70e75b5" data-elementtype="widget" data-widgettype=
 "theme-post-content.default"><div class="elementor-widget-container"><p></p
 ><p dir="ltr"><strong>Aviv Quartet&nbsp;</strong></p><div></div><p class="p
 1"><span class="s1">01.05<span class="Apple-converted-space">&nbsp;&nbsp;</
 span>20:00 Concert des Amis, Société de lecture, Genève</span></p><p class=
 "p1"><span class="s1">BEETHOVEN Quartet Op. 18, No. 5</span></p><p class="p
 1">BEETHOVEN Quartet Op.132</p></div></div><h2 class="nom color"><span styl
 e="font-family: var(--bs-body-font-family); font-size: var(--bs-body-font-s
 ize); text-align: var(--bs-body-text-align); -webkit-tap-highlight-color: t
 ransparent;">*****</span><a href="https://www.icm.org.il/en/chamber-music-c
 enter-concert-series/"></a></h2><div class="mt-3 mb-3"><div class="row">tTa
 rifs : 30chf / 15 chf (- de 18 ans, étudiants,AVS)</div><div class="row">En
 trée gratuite pour les membres de l’Association des Amis du Quatuor Aviv</d
 iv><div class="row">Réservations sur <joomla-hidden-mail  is-link="1" is-em
 ail="1" first="YW1pcw==" last="YXZpdnF1YXJ0ZXQuY29t" text="YW1pc0Bhdml2cXVh
 cnRldC5jb20=" base="" >This email address is being protected from spambots.
  You need JavaScript enabled to view it.</joomla-hidden-mail></div></div>
DTSTAMP:20260424T095557
DTSTART:20260501T190000
SEQUENCE:0
TRANSP:OPAQUE
END:VEVENT
END:VCALENDAR