BEGIN:VCALENDAR
VERSION:2.0
PRODID:-//jEvents 2.0 for Joomla//EN
CALSCALE:GREGORIAN
METHOD:PUBLISH
BEGIN:VEVENT
UID:a93af43d5a0377b043869b617a75f566
CATEGORIES:Aviv Quartet concerts
CREATED:20231208T114753
SUMMARY:Concert au Château Fallot
DESCRIPTION:Concert au Château Fallot Programme :Joseph Haydn - Quatuor en re majeur, o
 p. 20 no. 4\nBéla Bartók - Quatuor no. 2Chemin de la Fauvette 92, 1012 Laus
 anneRéservations sur This email address is being protected from spambots. Y
 ou need JavaScript enabled to view it.
X-ALT-DESC;FMTTYPE=text/html:<div class="x11i5rnm xat24cr x1mh8g0r x1vvkbs xtlvy1s"><span style="font-si
 ze: 12pt;">Concert au Château Fallot </span></div><div></div><div class="x1
 1i5rnm xat24cr x1mh8g0r x1vvkbs xtlvy1s">Programme :</div><div></div><div c
 lass="x11i5rnm xat24cr x1mh8g0r x1vvkbs xtlvy1s">Joseph Haydn - Quatuor en 
 re majeur, op. 20 no. 4<br />Béla Bartók - Quatuor no. 2</div><div></div><d
 iv>Chemin de la Fauvette 92, 1012 Lausanne</div><div></div><div>Réservation
 s sur <joomla-hidden-mail  is-link="1" is-email="1" first="YXZpdnF1YXJ0ZXQ=
 " last="Z21haWwuY29t" text="YXZpdnF1YXJ0ZXRAZ21haWwuY29t" base="" >This ema
 il address is being protected from spambots. You need JavaScript enabled to
  view it.</joomla-hidden-mail></div>
DTSTAMP:20260419T173438
DTSTART:20231201T190000
SEQUENCE:0
TRANSP:OPAQUE
END:VEVENT
END:VCALENDAR