BEGIN:VCALENDAR
VERSION:2.0
PRODID:-//jEvents 2.0 for Joomla//EN
CALSCALE:GREGORIAN
METHOD:PUBLISH
BEGIN:VEVENT
UID:2f6c260570a1ec2c699c25b9e54e0ae7
CATEGORIES:Aviv Quartet concerts
CREATED:20230826T011051
SUMMARY:Concert pour les Amis du Quatuor Aviv
LOCATION:Société de Lecture\, Grde Rue 11\, 1204 Geneve
DESCRIPTION:Concert privé pour les membres de l'Association Les Amis du Quatuor Aviv.\n
 Programme:\nW.A. Mozart: Quatuor KV 575 en ré majeur\nL. Janacek: Quatuor n
 .1 "La sonate à Kreutzer"\n
X-ALT-DESC;FMTTYPE=text/html:Concert privé pour les membres de l'Association Les Amis du Quatuor Aviv.<b
 r/>Programme:<br/>W.A. Mozart: Quatuor KV 575 en ré majeur<br/>L. Janacek: 
 Quatuor n.1 "La sonate à Kreutzer"<br/>
DTSTAMP:20260419T172117
DTSTART:20230402T110000
SEQUENCE:0
TRANSP:OPAQUE
END:VEVENT
END:VCALENDAR