BEGIN:VCALENDAR
VERSION:2.0
PRODID:-//jEvents 2.0 for Joomla//EN
CALSCALE:GREGORIAN
METHOD:PUBLISH
BEGIN:VEVENT
UID:4a963c8b4c026c4575e3bfaa9ebe9c8d
CATEGORIES:Aviv Quartet concerts
CREATED:20230826T011051
SUMMARY:Concert au Temple de Carouge
LOCATION:Temple de Carouge\, Pl. du Temple\, 1227 Carouge\, GE
DESCRIPTION:Le temps retrouvé - Vienne, d'un siècle à l'autre.\nProgramme:\nW.A. Mozart
 : Quatuor KV.575 en ré majeur \nF. Schubert: Quatuor D.703 en do mineur "Qu
 artettsatz"\nA. Schoenberg: "La Nuit Transfigurée" op.4 pour sextuor à cord
 es\nJohannes Moehrle : alto\nOphélie Gaillard : violoncelle\nPlus d'infos i
 ci (https://www.ponticello.ch/agenda)\n
X-ALT-DESC;FMTTYPE=text/html:Le temps retrouvé - Vienne, d'un siècle à l'autre.<br/>Programme:<br/>W.A. 
 Mozart: Quatuor KV.575 en ré majeur <br/>F. Schubert: Quatuor D.703 en do m
 ineur "Quartettsatz"<br/>A. Schoenberg: "La Nuit Transfigurée" op.4 pour se
 xtuor à cordes<br/>Johannes Moehrle : alto<br/>Ophélie Gaillard : violoncel
 le<br/>Plus d'infos ici (<a href="https://www.ponticello.ch/agenda">https:/
 /www.ponticello.ch/agenda</a>)<br/>
CONTACT:https://billetterie-culture.geneve.ch/selection/event/date?productId=10228830710704
DTSTAMP:20260419T160300
DTSTART:20230331T123000
SEQUENCE:0
TRANSP:OPAQUE
END:VEVENT
END:VCALENDAR