BEGIN:VCALENDAR
VERSION:2.0
PRODID:-//jEvents 2.0 for Joomla//EN
CALSCALE:GREGORIAN
METHOD:PUBLISH
BEGIN:VEVENT
UID:fa56ecb0a479040b108c1c701eddd993
CATEGORIES:Aviv Quartet concerts
CREATED:20230826T011051
SUMMARY:Société de musique de chambre 
LOCATION:Salle Faller\, Conservatoire de Musique\, La Chaux-de-fonds\, NE
DESCRIPTION:Wolfgang Amadeus Mozart: Quatuor K.387 en sol majeur \nMaurice Ravel: Quatu
 or en fa majeur\nJohannes Brahms : Quatuor n.1 en do mineur\nPlus d’infos (
 https://musiquecdf.ch/concerts/concert-du-quatuor-aviv/)\n
X-ALT-DESC;FMTTYPE=text/html:Wolfgang Amadeus Mozart: Quatuor K.387 en sol majeur <br/>Maurice Ravel: Qu
 atuor en fa majeur<br/>Johannes Brahms : Quatuor n.1 en do mineur<br/>Plus 
 d’infos (<a href="https://musiquecdf.ch/concerts/concert-du-quatuor-aviv/">
 https://musiquecdf.ch/concerts/concert-du-quatuor-aviv/</a>)<br/>
CONTACT:https://musiquecdf.ch/concerts/concert-du-quatuor-aviv/
DTSTAMP:20260419T172035
DTSTART:20230115T110000
SEQUENCE:0
TRANSP:OPAQUE
END:VEVENT
END:VCALENDAR